BEGIN:VCALENDAR
VERSION:2.0
PRODID:-//Barmer Brauerei - Bierbrauer aus Leidenschaft - ECPv6.15.20//NONSGML v1.0//EN
CALSCALE:GREGORIAN
METHOD:PUBLISH
X-ORIGINAL-URL:https://barmer-brauerei.de
X-WR-CALDESC:Veranstaltungen für Barmer Brauerei - Bierbrauer aus Leidenschaft
REFRESH-INTERVAL;VALUE=DURATION:PT1H
X-Robots-Tag:noindex
X-PUBLISHED-TTL:PT1H
BEGIN:VTIMEZONE
TZID:Europe/Berlin
BEGIN:DAYLIGHT
TZOFFSETFROM:+0100
TZOFFSETTO:+0200
TZNAME:CEST
DTSTART:20240331T010000
END:DAYLIGHT
BEGIN:STANDARD
TZOFFSETFROM:+0200
TZOFFSETTO:+0100
TZNAME:CET
DTSTART:20241027T010000
END:STANDARD
BEGIN:DAYLIGHT
TZOFFSETFROM:+0100
TZOFFSETTO:+0200
TZNAME:CEST
DTSTART:20250330T010000
END:DAYLIGHT
BEGIN:STANDARD
TZOFFSETFROM:+0200
TZOFFSETTO:+0100
TZNAME:CET
DTSTART:20251026T010000
END:STANDARD
BEGIN:DAYLIGHT
TZOFFSETFROM:+0100
TZOFFSETTO:+0200
TZNAME:CEST
DTSTART:20260329T010000
END:DAYLIGHT
BEGIN:STANDARD
TZOFFSETFROM:+0200
TZOFFSETTO:+0100
TZNAME:CET
DTSTART:20261025T010000
END:STANDARD
END:VTIMEZONE
BEGIN:VEVENT
DTSTART;TZID=Europe/Berlin:20250308T190000
DTEND;TZID=Europe/Berlin:20250308T220000
DTSTAMP:20260425T192133
CREATED:20241213T181447Z
LAST-MODIFIED:20250129T064730Z
UID:2573-1741460400-1741471200@barmer-brauerei.de
SUMMARY:Tasting nur für Frauen zum Weltfrauentag - AUSVERKAUFT
DESCRIPTION:Zum Weltfrauentag ein Tasting nur für Frauen\, aber auch hier: 6 x 0\,3 Liter\, Barmer Biere und „weibliche“ Biere. Dazu gibt’s natürlich auch wat Leckeres
URL:https://barmer-brauerei.de/event/weltfrauentag/
END:VEVENT
END:VCALENDAR