BEGIN:VCALENDAR
VERSION:2.0
PRODID:-//Barmer Brauerei - Bierbrauer aus Leidenschaft - ECPv6.15.20//NONSGML v1.0//EN
CALSCALE:GREGORIAN
METHOD:PUBLISH
X-ORIGINAL-URL:https://barmer-brauerei.de
X-WR-CALDESC:Veranstaltungen für Barmer Brauerei - Bierbrauer aus Leidenschaft
REFRESH-INTERVAL;VALUE=DURATION:PT1H
X-Robots-Tag:noindex
X-PUBLISHED-TTL:PT1H
BEGIN:VTIMEZONE
TZID:Europe/Berlin
BEGIN:DAYLIGHT
TZOFFSETFROM:+0100
TZOFFSETTO:+0200
TZNAME:CEST
DTSTART:20240331T010000
END:DAYLIGHT
BEGIN:STANDARD
TZOFFSETFROM:+0200
TZOFFSETTO:+0100
TZNAME:CET
DTSTART:20241027T010000
END:STANDARD
BEGIN:DAYLIGHT
TZOFFSETFROM:+0100
TZOFFSETTO:+0200
TZNAME:CEST
DTSTART:20250330T010000
END:DAYLIGHT
BEGIN:STANDARD
TZOFFSETFROM:+0200
TZOFFSETTO:+0100
TZNAME:CET
DTSTART:20251026T010000
END:STANDARD
BEGIN:DAYLIGHT
TZOFFSETFROM:+0100
TZOFFSETTO:+0200
TZNAME:CEST
DTSTART:20260329T010000
END:DAYLIGHT
BEGIN:STANDARD
TZOFFSETFROM:+0200
TZOFFSETTO:+0100
TZNAME:CET
DTSTART:20261025T010000
END:STANDARD
END:VTIMEZONE
BEGIN:VEVENT
DTSTART;TZID=Europe/Berlin:20250921T153000
DTEND;TZID=Europe/Berlin:20250921T183000
DTSTAMP:20260424T042809
CREATED:20250916T165952Z
LAST-MODIFIED:20250916T165952Z
UID:2984-1758468600-1758479400@barmer-brauerei.de
SUMMARY:BHC 06 vs. SG Flensburg-Handewitt live in der Barmer Brauerei
DESCRIPTION:Wir zeigen euch live das Spiel BHC gegen die SG Flensburg-Handewitt. \nAnwurf ist um 16.30 Uhr\, wir öffnen für euch um 15.30 Uhr.
URL:https://barmer-brauerei.de/event/bhc-06-vs-sg-flensburg-handewitt-live-in-der-barmer-brauerei/
END:VEVENT
END:VCALENDAR