BEGIN:VCALENDAR
VERSION:2.0
PRODID:-//Barmer Brauerei - Bierbrauer aus Leidenschaft - ECPv6.15.20//NONSGML v1.0//EN
CALSCALE:GREGORIAN
METHOD:PUBLISH
X-WR-CALNAME:Barmer Brauerei - Bierbrauer aus Leidenschaft
X-ORIGINAL-URL:https://barmer-brauerei.de
X-WR-CALDESC:Veranstaltungen für Barmer Brauerei - Bierbrauer aus Leidenschaft
REFRESH-INTERVAL;VALUE=DURATION:PT1H
X-Robots-Tag:noindex
X-PUBLISHED-TTL:PT1H
BEGIN:VTIMEZONE
TZID:Europe/Berlin
BEGIN:DAYLIGHT
TZOFFSETFROM:+0100
TZOFFSETTO:+0200
TZNAME:CEST
DTSTART:20240331T010000
END:DAYLIGHT
BEGIN:STANDARD
TZOFFSETFROM:+0200
TZOFFSETTO:+0100
TZNAME:CET
DTSTART:20241027T010000
END:STANDARD
BEGIN:DAYLIGHT
TZOFFSETFROM:+0100
TZOFFSETTO:+0200
TZNAME:CEST
DTSTART:20250330T010000
END:DAYLIGHT
BEGIN:STANDARD
TZOFFSETFROM:+0200
TZOFFSETTO:+0100
TZNAME:CET
DTSTART:20251026T010000
END:STANDARD
BEGIN:DAYLIGHT
TZOFFSETFROM:+0100
TZOFFSETTO:+0200
TZNAME:CEST
DTSTART:20260329T010000
END:DAYLIGHT
BEGIN:STANDARD
TZOFFSETFROM:+0200
TZOFFSETTO:+0100
TZNAME:CET
DTSTART:20261025T010000
END:STANDARD
END:VTIMEZONE
BEGIN:VEVENT
DTSTART;TZID=Europe/Berlin:20251206T190000
DTEND;TZID=Europe/Berlin:20251206T220000
DTSTAMP:20260423T112429
CREATED:20251205T110058Z
LAST-MODIFIED:20251205T110058Z
UID:3024-1765047600-1765058400@barmer-brauerei.de
SUMMARY:Biertasting Fränkische Biervielfalt
DESCRIPTION:Verköstigt werdeb 6 verschiedene fränkische Biere a 0\,3l unterschiedlicher Brauereien. Dazu servieren wir eine Brotzeitplatte.
URL:https://barmer-brauerei.de/event/biertasting-fraenkische-biervielfalt/
END:VEVENT
END:VCALENDAR