BEGIN:VCALENDAR
VERSION:2.0
PRODID:-//Barmer Brauerei - Bierbrauer aus Leidenschaft - ECPv6.15.20//NONSGML v1.0//EN
CALSCALE:GREGORIAN
METHOD:PUBLISH
X-ORIGINAL-URL:https://barmer-brauerei.de
X-WR-CALDESC:Veranstaltungen für Barmer Brauerei - Bierbrauer aus Leidenschaft
REFRESH-INTERVAL;VALUE=DURATION:PT1H
X-Robots-Tag:noindex
X-PUBLISHED-TTL:PT1H
BEGIN:VTIMEZONE
TZID:Europe/Berlin
BEGIN:DAYLIGHT
TZOFFSETFROM:+0100
TZOFFSETTO:+0200
TZNAME:CEST
DTSTART:20240331T010000
END:DAYLIGHT
BEGIN:STANDARD
TZOFFSETFROM:+0200
TZOFFSETTO:+0100
TZNAME:CET
DTSTART:20241027T010000
END:STANDARD
BEGIN:DAYLIGHT
TZOFFSETFROM:+0100
TZOFFSETTO:+0200
TZNAME:CEST
DTSTART:20250330T010000
END:DAYLIGHT
BEGIN:STANDARD
TZOFFSETFROM:+0200
TZOFFSETTO:+0100
TZNAME:CET
DTSTART:20251026T010000
END:STANDARD
BEGIN:DAYLIGHT
TZOFFSETFROM:+0100
TZOFFSETTO:+0200
TZNAME:CEST
DTSTART:20260329T010000
END:DAYLIGHT
BEGIN:STANDARD
TZOFFSETFROM:+0200
TZOFFSETTO:+0100
TZNAME:CET
DTSTART:20261025T010000
END:STANDARD
END:VTIMEZONE
BEGIN:VEVENT
DTSTART;TZID=Europe/Berlin:20250829T190000
DTEND;TZID=Europe/Berlin:20250829T220000
DTSTAMP:20260422T141948
CREATED:20250730T134719Z
LAST-MODIFIED:20250802T162830Z
UID:2916-1756494000-1756504800@barmer-brauerei.de
SUMMARY:Brauerei-Quiz mit Palle - AUSGEBUCHT !
DESCRIPTION:Am 29.08.2025 findet wieder unser Brauerei Quiz statt. Das Siegerteam erhält wieder eine Runde Freibier🍻 \nBitte meldet Euch an unter info@barmer-brauerei.de👍🏼
URL:https://barmer-brauerei.de/event/brauerei-quiz-mit-palle/
END:VEVENT
BEGIN:VEVENT
DTSTART;TZID=Europe/Berlin:20250831T140000
DTEND;TZID=Europe/Berlin:20250831T170000
DTSTAMP:20260422T141948
CREATED:20250828T183314Z
LAST-MODIFIED:20250828T183401Z
UID:2938-1756648800-1756659600@barmer-brauerei.de
SUMMARY:Saisonstart des Bergischen HC in der Barmer Brauerei
DESCRIPTION:Am Sonntag\, den 31.08.2025\, startet der BHC in die neue Bundesligasaison gegen die Füchse Berlin in der Max-Schmeling-Halle in Berlin. Und bei uns könnt ihr das Spiel live sehen. Anwurf ist um 15 Uhr\, die Brauerei öffnet um 14 Uhr.
URL:https://barmer-brauerei.de/event/saisonstart-der-bergischen-loewen-in-der-barmer-brauerei/
END:VEVENT
END:VCALENDAR