BEGIN:VCALENDAR
VERSION:2.0
PRODID:-//Barmer Brauerei - Bierbrauer aus Leidenschaft - ECPv6.15.20//NONSGML v1.0//EN
CALSCALE:GREGORIAN
METHOD:PUBLISH
X-ORIGINAL-URL:https://barmer-brauerei.de
X-WR-CALDESC:Veranstaltungen für Barmer Brauerei - Bierbrauer aus Leidenschaft
REFRESH-INTERVAL;VALUE=DURATION:PT1H
X-Robots-Tag:noindex
X-PUBLISHED-TTL:PT1H
BEGIN:VTIMEZONE
TZID:Europe/Berlin
BEGIN:DAYLIGHT
TZOFFSETFROM:+0100
TZOFFSETTO:+0200
TZNAME:CEST
DTSTART:20240331T010000
END:DAYLIGHT
BEGIN:STANDARD
TZOFFSETFROM:+0200
TZOFFSETTO:+0100
TZNAME:CET
DTSTART:20241027T010000
END:STANDARD
BEGIN:DAYLIGHT
TZOFFSETFROM:+0100
TZOFFSETTO:+0200
TZNAME:CEST
DTSTART:20250330T010000
END:DAYLIGHT
BEGIN:STANDARD
TZOFFSETFROM:+0200
TZOFFSETTO:+0100
TZNAME:CET
DTSTART:20251026T010000
END:STANDARD
BEGIN:DAYLIGHT
TZOFFSETFROM:+0100
TZOFFSETTO:+0200
TZNAME:CEST
DTSTART:20260329T010000
END:DAYLIGHT
BEGIN:STANDARD
TZOFFSETFROM:+0200
TZOFFSETTO:+0100
TZNAME:CET
DTSTART:20261025T010000
END:STANDARD
END:VTIMEZONE
BEGIN:VEVENT
DTSTART;TZID=Europe/Berlin:20251002T183000
DTEND;TZID=Europe/Berlin:20251002T203000
DTSTAMP:20260423T124909
CREATED:20250921T170852Z
LAST-MODIFIED:20250921T170852Z
UID:2986-1759429800-1759437000@barmer-brauerei.de
SUMMARY:Pokalsspiel HSC 2000 Coburg gegen den BHC live in der Brauerei
DESCRIPTION:Das DHB Pokal Auswärtsspiel des BHC gegen den HSC 2000 Coburg könnt Ihr wie gewohnt live in der Barmer Brauerei sehen. Anwurf ist um 19.30 Uhr. \nWir haben eine Stunde vor Anwurf geöffnet.
URL:https://barmer-brauerei.de/event/pokalsspiel-hsc-2000-coburg-gegen-den-bhc-live-in-der-brauerei/
END:VEVENT
BEGIN:VEVENT
DTSTART;TZID=Europe/Berlin:20251003T110000
DTEND;TZID=Europe/Berlin:20251003T230000
DTSTAMP:20260423T124909
CREATED:20250827T122642Z
LAST-MODIFIED:20250914T133829Z
UID:2934-1759489200-1759532400@barmer-brauerei.de
SUMMARY:Oktoberfest in der Barmer Brauerei
DESCRIPTION:Am 03.10.2025 könnt Ihr in der Barmer Brauerei das Oktoberfest feiern. \nIm Ausschank wird es neben unseren üblichen Bieren das „Jagd auf Roter Oktober“ der Pax Bräu Brauerei sowie das Hummel Festbier unfiltriert der Brauerei Hummel geben. \nWas wir an Essen anbieten werden\, entscheidet sich noch und wird rechtzeitig hier und auf social media bekannt gegeben. \nTischresevierungen bitte ausschließlich hier über das Kontaktformular oder per mail an info@barmer-brauerei.de !!
URL:https://barmer-brauerei.de/event/oktoberfest-in-der-barmer-brauerei/
END:VEVENT
BEGIN:VEVENT
DTSTART;TZID=Europe/Berlin:20251012T140000
DTEND;TZID=Europe/Berlin:20251012T170000
DTSTAMP:20260423T124909
CREATED:20250915T071312Z
LAST-MODIFIED:20250922T155635Z
UID:2978-1760277600-1760288400@barmer-brauerei.de
SUMMARY:Auswärtsspiel des BHC gegen den SC Magdeburg live in der Brauerei
DESCRIPTION:Das Auswärtsspiel des BHC gegen den SC Magdeburg könnt Ihr wie gewohnt live in der Barmer Brauerei sehen. Anwurf ist um 15 Uhr\, \nWir haben eine Stunde vor Anwurf geöffnet.
URL:https://barmer-brauerei.de/event/auswaertsspiel-des-bhc-gegen-den-sc-magdeburg-live-in-der-brauerei/
END:VEVENT
BEGIN:VEVENT
DTSTART;TZID=Europe/Berlin:20251017T180000
DTEND;TZID=Europe/Berlin:20251017T210000
DTSTAMP:20260423T124909
CREATED:20251017T094438Z
LAST-MODIFIED:20251017T094526Z
UID:3011-1760724000-1760734800@barmer-brauerei.de
SUMMARY:Auswärtsspiel des BHC gegen Frisch Auf! Göppingen live in der Brauerei
DESCRIPTION:Das Auswärtsspiel des BHC gegen Frisch Auf! Göppingen könnt Ihr wie gewohnt live in der Barmer Brauerei sehen. Anwurf ist um 19 Uhr. \nWir haben eine Stunde vor Anwurf geöffnet.
URL:https://barmer-brauerei.de/event/auswaertsspiel-des-bhc-gegen-frisch-auf-goeppingen-live-in-der-brauerei/
END:VEVENT
BEGIN:VEVENT
DTSTART;VALUE=DATE:20251025
DTEND;VALUE=DATE:20251026
DTSTAMP:20260423T124909
CREATED:20251001T103827Z
LAST-MODIFIED:20251001T103827Z
UID:3001-1761350400-1761436799@barmer-brauerei.de
SUMMARY:Geschlossene Gesellschaft
DESCRIPTION:
URL:https://barmer-brauerei.de/event/geschlossene-gesellschaft-2/
END:VEVENT
END:VCALENDAR